BEGIN:VCALENDAR
VERSION:2.0
PRODID:-//wp-events-plugin.com//7.2.3.1//EN
TZID:Europe/Belgrade
X-WR-TIMEZONE:Europe/Belgrade
BEGIN:VEVENT
UID:44@mrezajezgro.rs
DTSTART;TZID=Europe/Belgrade:20260703T000000
DTEND;TZID=Europe/Belgrade:20260705T000000
DTSTAMP:20260424T083736Z
URL:https://www.mrezajezgro.rs/dogadjaji/festival-vestina/
SUMMARY:Festival veština
DESCRIPTION:Festival veština održaće se od 3 - 5. jula na planini Rtan
 j (planina) i osmišljen je kao trodnevni događaj koji povezuje duhovne 
 prakse\, umetnost\, edukaciju i boravak u prirodi.\n\nFestival ima za cilj
  afirmaciju lokalne zajednice i očuvanje autentičnog identiteta područj
 a kroz promociju nematerijalnog kulturnog nasleđa – od antropologije i 
 etnologije\, do starih verovanja\, rituala i mitskih priča koje su vekovi
 ma oblikovale ovo područje. Kao otvorena platforma\, festival okuplja org
 anizacije\, istraživače\, praktičare i umetnike posvećene očuvanju tr
 adicije\, podstičući razmenu znanja i njihovo prenošenje na nove genera
 cije u savremenom kontekstu i u skladu sa principima održivog razvoja.\n\
 nProgram obuhvata radionice starih zanata\, pripovedanje\, umetničke i ri
 tualne performanse\, kao i savremene interpretacije balkanske mitologije.\
 n\nPoseban aspekt festivala je njegova održiva\, eko koncepcija – sa in
 frastrukturom koja uključuje kompostne toalete\, reciklažne sisteme i pa
 žljivo osmišljen kamp prostor u prirodnom okruženju.\n\nU okviru festiv
 alskog programa otvoren je poziv za učešće\, uključujući:\n– radion
 ice i edukativne sadržaje\n– predavanja i prezentacije\n– izložbene 
 postavke\n– predstavljanje tradicionalnih znanja\, zanata i proizvoda\n\
 nDetalji o uslovima učešća\, u zavisnosti od formata u kojem želite da
  se uključite\, dostupni su na sajtu događaja (www.festivalvestina.rs).\
 n\nFestival veština predstavlja priliku za sve koji kroz svoj rad neguju 
 tradiciju\, znanje i autentičan pristup stvaranju\, da postanu deo jedins
 tvenog događaja koji povezuje duhovnost\, kulturu i prirodu.\n\nJedna od 
 organizatorki festivala je Bojana Radisavljević\, članica Mreža Jezgr
 o\, ispred Rtanjski vrt\, koja kroz ovaj događaj doprinosi razvoju platf
 orme za susret tradicije i savremenih pristupa kulturnom i održivom turiz
 mu.
ATTACH;FMTTYPE=image/jpeg:https://www.mrezajezgro.rs/wp-content/uploads/20
 26/04/671861103_18081816161178588_7430963374611541919_n.jpg
CATEGORIES:Festival
LOCATION:Rtanj\, Rtanj\, Planina Rtanj\, Serbia
X-APPLE-STRUCTURED-LOCATION;VALUE=URI;X-ADDRESS=Rtanj\, Planina Rtanj\, Ser
 bia;X-APPLE-RADIUS=100;X-TITLE=Rtanj:geo:0,0
END:VEVENT
BEGIN:VTIMEZONE
TZID:Europe/Belgrade
X-LIC-LOCATION:Europe/Belgrade
BEGIN:DAYLIGHT
DTSTART:20260329T030000
TZOFFSETFROM:+0100
TZOFFSETTO:+0200
TZNAME:CEST
END:DAYLIGHT
END:VTIMEZONE
END:VCALENDAR