BEGIN:VCALENDAR
VERSION:2.0
PRODID:-//wp-events-plugin.com//7.2.3.1//EN
TZID:Europe/Belgrade
X-WR-TIMEZONE:Europe/Belgrade
BEGIN:VEVENT
UID:36@mrezajezgro.rs
DTSTART;TZID=Europe/Belgrade:20251217T180000
DTEND;TZID=Europe/Belgrade:20251217T200000
DTSTAMP:20251210T152001Z
URL:https://www.mrezajezgro.rs/dogadjaji/online-prelo-harmonija-porodicnog
 -poslovnog-i-licnog/
SUMMARY:Online PRELO - Harmonija porodičnog\, poslovnog i ličnog
DESCRIPTION:Ovog meseca na Online Prelu tkamo priču od hiljadu niti.\nSva
 ka nit je jedan odnos\, jedna obaveza\, jedna radost\, jedan izbor…\n\n\
 nPričamo priču o najstarijoj tkalji - paučici koja je istakla Univerzum
  i delimo priče o nitima naših života. O onim delovima gde se boje ukla
 paju baš kako hoćemo i delovima gde nam se vlakna mrse\, kidaju i šare 
 nam nekako ne idu od ruke.\n\nPričamo o ćilimima naših života kako uk
 lapamo boje\, šare\, motive\, i koliko nam se zapravo sviđa ono što smo
  do sada izatkale. Tu su i pitanja: gde bi da dodamo boju? gde da izmenim
 o šaru? gde nam fali još malo nežnosti\, a gde čvrstine?\n\nPrelo vodi
  Maja Delibašić\, mama\, psihoterapeutkinja\, žena sa sela i mlađa men
 torka Mreže Jezgro.\n\nOvo nije webinar ni trening. Kao i uvek na prelu m
 i pletemo\, vezemo ili slušamo jedne druge\, mi u stvari delimo\, povezuj
 emo se i podržavamo jedna drugu.\n\nDobrodošle su sve žene\, sa sela i 
 iz grada.\n\n
ATTACH;FMTTYPE=image/jpeg:https://www.mrezajezgro.rs/wp-content/uploads/20
 25/12/3-2.png
CATEGORIES:Okupljanje
END:VEVENT
BEGIN:VTIMEZONE
TZID:Europe/Belgrade
X-LIC-LOCATION:Europe/Belgrade
BEGIN:STANDARD
DTSTART:20251026T020000
TZOFFSETFROM:+0200
TZOFFSETTO:+0100
TZNAME:CET
END:STANDARD
END:VTIMEZONE
END:VCALENDAR