BEGIN:VCALENDAR
VERSION:2.0
PRODID:-//wp-events-plugin.com//7.2.3.1//EN
TZID:Europe/Belgrade
X-WR-TIMEZONE:Europe/Belgrade
BEGIN:VEVENT
UID:43@mrezajezgro.rs
DTSTART;TZID=Europe/Belgrade:20260502T090000
DTEND;TZID=Europe/Belgrade:20260502T160000
DTSTAMP:20260424T083530Z
URL:https://www.mrezajezgro.rs/dogadjaji/radionica-branja-i-upotrebe-lekov
 itog-bilja-vile-biljarice/
SUMMARY:Radionica branja i upotrebe lekovitog bilja – Vile Biljarice
DESCRIPTION:\n\nPostoje dani koji nisu samo događaji\, već iskustva koja 
 se pamte.\nRadionica Vile Biljarice je upravo takav dan – susret sa pr
 irodom\, znanjem i sobom.\n\nRadionicu vodi Dragica Janković\, mlađa men
 torka Mreže Jezgro\, narodna travarka i praktičarka Bahovih kapi\, koja 
 svoj rad zasniva na dubokom poštovanju prema prirodi\, biljkama i znanju 
 koje se prenosi kroz iskustvo\, a ne samo kroz teoriju.\n\nKroz njen prist
 up\, biljke nisu “materijal za obradu”\, već živa bića sa kojima u
 čimo da uspostavimo odnos.\n\nAko želiš da se upoznaš sa njenim radom 
 i znanjem\, pozivamo te da onda provedeš ceo dan u prirodi\, na Ranču Sr
 etenović u selu Tolić kod Mionice\, gde se učenje ne dešava u učionic
 i\, već na stazi\, među biljkama\, pored reke i u razgovoru koji nastaje
  prirodno – dok hodaš\, posmatraš i učiš.\n\nPROGRAM:\n\n09:00–09:
 30 Dolazak i upoznavanje učesnika\n10:00 Polazak na stazu i terensko upoz
 navanje lekovitog bilja\n13:30 Povratak i domaći tolićki ručak 🍲\n15
 :00 Praktična radionica – izrada sopstvene tinkture 🌿\n16:00 Završe
 tak programa\n\nDodatne informacije\n\n• Radionica je pogodna i za decu\
 n• Deca do 10 godina učestvuju besplatno\n• Potrebna je adekvatna obu
 ća i slojevita garderoba\n• Staza je srednje težine (oko 7 km kružno)
 \n• Broj mesta je ograničen\n\nCena: 7000 din\n\n\nU cenu je uključeno
 : stručno vođenje\, obilazak imanja\, boravak u prirodi\, ručak\, pić
 e\, kafa i praktična radionica kroz koju izrađuješ svoju tinkturu koju 
 nosiš kući.\n\nPrijave i informacije:\n\n064 153 3344\n069 052 37120\n
 👉 Rezervacija mesta je obavezna uz avans od 50%
ATTACH;FMTTYPE=image/jpeg:https://www.mrezajezgro.rs/wp-content/uploads/20
 26/04/dragica-vile-biljarice.jpg
CATEGORIES:Radionica
LOCATION:Ranč Sretenović\, Ranč Sretenović\, Selo Tolić kod Mionice\, 
 Serbia
X-APPLE-STRUCTURED-LOCATION;VALUE=URI;X-ADDRESS=Ranč Sretenović\, Selo To
 lić kod Mionice\, Serbia;X-APPLE-RADIUS=100;X-TITLE=Ranč Sretenović:geo
 :0,0
END:VEVENT
BEGIN:VTIMEZONE
TZID:Europe/Belgrade
X-LIC-LOCATION:Europe/Belgrade
BEGIN:DAYLIGHT
DTSTART:20260329T030000
TZOFFSETFROM:+0100
TZOFFSETTO:+0200
TZNAME:CEST
END:DAYLIGHT
END:VTIMEZONE
END:VCALENDAR