BEGIN:VCALENDAR
VERSION:2.0
PRODID:-//wp-events-plugin.com//7.2.3.1//EN
TZID:Europe/Belgrade
X-WR-TIMEZONE:Europe/Belgrade
BEGIN:VEVENT
UID:32@mrezajezgro.rs
DTSTART;TZID=Europe/Belgrade:20250618T170000
DTEND;TZID=Europe/Belgrade:20250618T190000
DTSTAMP:20250605T164125Z
URL:https://www.mrezajezgro.rs/dogadjaji/umetnost-brige-o-ljudima/
SUMMARY:Umetnost brige o ljudima
DESCRIPTION:Kako da dizajniramo zdravije odnose i otpornije zajednice kroz 
 etike i principe permakulture?\n\nNa ovoj online radionici zaranjamo u sve
 t društvene permakulture kroz lična iskustva\, kolektivnu refleksiju i u
 vod u konkretne alate za održivost u međuljudskim odnosima.\n\nKroz teor
 iju i praksu istražujemo kako zone\, tokovi i sektori iz permakulturnog d
 izajna funkcionišu i u našim ljudskim sistemima. Biće to prilika da zaj
 edno zastanemo\, pogledamo odnose iz novog ugla i doživimo one “aha” 
 momente koji menjaju način na koji se povezujemo.\n\n Teme koje istražu
 jemo:\n\n 	Šta je društvena permakultura i zašto nam je važna\n 	Etike
  permakulture iz društvenog ugla\n 	12 principa permakulture kroz društv
 eni ugao\n 	Zone\, tokovi i sektori u odnosima i zajednicama\n 	Kako prepo
 znati obrasce i odgovarati na promene\n 	Uvod u alate za regeneraciju i di
 zajniranje zajednica\n\n 👥 Za koga je ova radionica?\n\n 	Za one koji 
 su radoznali u vezi sa društvenom permakulturom\, ali ne znaju odakle da 
 krenu\n 	Za sve koji rade (ili će raditi) sa ljudima i često se pitaju k
 ako da grade odnose drugačije\n 	Za one koji osećaju potrebu da stanu\, 
 oslušnu i preispitaju kako neguju odnose i zajednice\n\n\n🗓️ Agenda 
 radionice:\n\n✔️ Check-in &amp\; upoznavanje\n ✔️ Uvod u društven
 u permakulturu\, etike i principe\n ✔️ Grupni rad – permakulturni pr
 incipi u realnim životnim situacijama\n ✔️ Razumevanje zona\, tokova 
 i sektora kroz primere iz iskustva\n ✔️ Zajednički zaključak &amp\; 
 domaći zadatak\n\n\n✏️ Nakon radionice dobijaš:\n\n🎁 Canva link p
 roširene prezentacije\n 🎁 Radni list za domaći zadatak "Moje imanje"\
 n 🎁 Predloge za dalje istraživanje\n\n\n💰 Cena \n\nU skladu sa eti
 kom pravične raspodele\, nudim Vam mogućnost da sami izaberete iznos upl
 ate\, u zavisnosti od Vaših trenutnih mogućnosti i želje da podržite o
 vu radionicu:\n\n 	1000 RSD – Plaćam pola\n 	2000 RSD – Plaćam punu 
 cenu\n 	3000 RSD – Podržavam tvoj dalji razvitak \n\n* Informacije o u
 plati ćete dobiti po prijavi na svoju mail adresu. \n\n\nO predavačici
  \n\nEva Vitorović je edukatorka\, fasilitatorka i praktičarka društve
 ne permakulture sa višegodišnjim iskustvom u radu sa mladima\, zajednica
 ma i organizacijama koje teže regenerativnim modelima življenja i saradn
 je. Nakon života u gradu\, Eva je odlučila da svoj život i rad ukoreni 
 na selu\, gde aktivno istražuje  principe permakulture u međuljudskim o
 dnosima.\n\n\nZavršila je Permaculture Design Course (PDC) i trening za t
 renere (Teaching Permaculture Teachers)\, a kroz svoje radionice\, projekt
 e i mentorstva integriše alatke društvene permakulture\, zajedništvo\, 
 teatar i dosta smeha :) \n\nKroz svoj lični brend Mama na vr' brda inspi
 riše druge da neguju odnose\, uspore i grade održive promene iznutra ka 
 spolja.
ATTACH;FMTTYPE=image/jpeg:https://www.mrezajezgro.rs/wp-content/uploads/20
 25/06/Najava-za-predavanje.jpg
CATEGORIES:Predavanje
LOCATION:https://forms.gle/3DqJZ14dW7K4WdER9
END:VEVENT
BEGIN:VTIMEZONE
TZID:Europe/Belgrade
X-LIC-LOCATION:Europe/Belgrade
BEGIN:DAYLIGHT
DTSTART:20250330T030000
TZOFFSETFROM:+0100
TZOFFSETTO:+0200
TZNAME:CEST
END:DAYLIGHT
END:VTIMEZONE
END:VCALENDAR